BEGIN:VCALENDAR
VERSION:2.0
PRODID:-//Petone Club - Wellingtons Venue of choice - ECPv6.15.13//NONSGML v1.0//EN
CALSCALE:GREGORIAN
METHOD:PUBLISH
X-WR-CALNAME:Petone Club - Wellingtons Venue of choice
X-ORIGINAL-URL:https://www.petoneclub.co.nz
X-WR-CALDESC:Events for Petone Club - Wellingtons Venue of choice
REFRESH-INTERVAL;VALUE=DURATION:PT1H
X-Robots-Tag:noindex
X-PUBLISHED-TTL:PT1H
BEGIN:VTIMEZONE
TZID:UTC
BEGIN:STANDARD
TZOFFSETFROM:+0000
TZOFFSETTO:+0000
TZNAME:UTC
DTSTART:20190101T000000
END:STANDARD
END:VTIMEZONE
BEGIN:VEVENT
DTSTART;TZID=UTC:20200206T093000
DTEND;TZID=UTC:20200206T170000
DTSTAMP:20260424T234129
CREATED:20191208T095538Z
LAST-MODIFIED:20191208T095538Z
UID:1971-1580981400-1581008400@www.petoneclub.co.nz
SUMMARY:Tauherenikau Races
DESCRIPTION:Make the most of the public holiday by coming with us along to the Tauherenikau Races.  \nEnjoy a Sausage Sizzle on the day or bring over your own food to fry up on the BBQ. \nTickets are $35 per person and can be bought at PWMC reception. \nBus will leave at 9:30am sharp then return to the club at the end of the day.
URL:https://www.petoneclub.co.nz/events/tauherenikau-races/
CATEGORIES:Major Events
ATTACH;FMTTYPE=image/jpeg:https://www.petoneclub.co.nz/wp-content/uploads/2019/12/Tauherenikau-Races-Poster_2020_fb.jpg
END:VEVENT
END:VCALENDAR