BEGIN:VCALENDAR
VERSION:2.0
PRODID:-//Petone Club - Wellingtons Venue of choice - ECPv6.15.13//NONSGML v1.0//EN
CALSCALE:GREGORIAN
METHOD:PUBLISH
X-WR-CALNAME:Petone Club - Wellingtons Venue of choice
X-ORIGINAL-URL:https://www.petoneclub.co.nz
X-WR-CALDESC:Events for Petone Club - Wellingtons Venue of choice
REFRESH-INTERVAL;VALUE=DURATION:PT1H
X-Robots-Tag:noindex
X-PUBLISHED-TTL:PT1H
BEGIN:VTIMEZONE
TZID:UTC
BEGIN:STANDARD
TZOFFSETFROM:+0000
TZOFFSETTO:+0000
TZNAME:UTC
DTSTART:20180101T000000
END:STANDARD
END:VTIMEZONE
BEGIN:VEVENT
DTSTART;TZID=UTC:20191231T193000
DTEND;TZID=UTC:20200101T000000
DTSTAMP:20260424T233419
CREATED:20191120T103141Z
LAST-MODIFIED:20191201T130607Z
UID:1963-1577820600-1577836800@www.petoneclub.co.nz
SUMMARY:Good Thing Going
DESCRIPTION:A band with a soulful sound that has appeared before at the Petone Club to great reviews. Be sure to give them a slot in your entertainment schedule. \nPrizes for best dressed members.  \n1st : $250\n2nd : $150\n3rd : $100
URL:https://www.petoneclub.co.nz/events/good-thing-going-12/
CATEGORIES:Live Music
ATTACH;FMTTYPE=image/jpeg:https://www.petoneclub.co.nz/wp-content/uploads/2018/08/good_thing_going.jpg
END:VEVENT
END:VCALENDAR