BEGIN:VCALENDAR
VERSION:2.0
PRODID:-//Petone Club - Wellingtons Venue of choice - ECPv6.15.13//NONSGML v1.0//EN
CALSCALE:GREGORIAN
METHOD:PUBLISH
X-WR-CALNAME:Petone Club - Wellingtons Venue of choice
X-ORIGINAL-URL:https://www.petoneclub.co.nz
X-WR-CALDESC:Events for Petone Club - Wellingtons Venue of choice
REFRESH-INTERVAL;VALUE=DURATION:PT1H
X-Robots-Tag:noindex
X-PUBLISHED-TTL:PT1H
BEGIN:VTIMEZONE
TZID:UTC
BEGIN:STANDARD
TZOFFSETFROM:+0000
TZOFFSETTO:+0000
TZNAME:UTC
DTSTART:20160101T000000
END:STANDARD
END:VTIMEZONE
BEGIN:VEVENT
DTSTART;TZID=UTC:20170930T193000
DTEND;TZID=UTC:20170930T233000
DTSTAMP:20260424T234022
CREATED:20170918T094145Z
LAST-MODIFIED:20170918T103040Z
UID:587-1506799800-1506814200@www.petoneclub.co.nz
SUMMARY:Aaron Andis
DESCRIPTION:Aaron Andis is a top class solo musical entertainer based in the Wellington region who has been performing professionally for over 20 years. \nhttp://www.aaronandis.com \nDepending on the function he can rock the party with his one man band or bring it right down to mellow acoustic tones. Reading the crowd and encouraging their participation is something that Aaron is very good at. He produces a full on band sound with scorching electric guitar and powerful vocals & can also play acoustic guitar for the more mellow tunes. Comes complete with a high quality sound system & stage area lighting. \nAaron’s personal mission statement:“Music can make or break your occasion; I assure you that I will create a warming and responsive atmosphere that everybody can enjoy! Whether you want to dance or just sit and listen everyone will have a fantastic time.
URL:https://www.petoneclub.co.nz/events/aaron-andis/
LOCATION:Petone Working Men’s Club\, 47 Udy St\, Petone\, Lower Hutt\, 5010\, New Zealand
CATEGORIES:Live Music
ATTACH;FMTTYPE=image/jpeg:https://www.petoneclub.co.nz/wp-content/uploads/2017/09/4e27cfbf6969e6cc216183d030c3cc6d.jpg
END:VEVENT
END:VCALENDAR